BEGIN:VCALENDAR
VERSION:2.0
PRODID:DPCALENDAR
CALSCALE:GREGORIAN
BEGIN:VTIMEZONE
TZID:Europe/Berlin
X-MICROSOFT-CDO-TZID:4
BEGIN:STANDARD
DTSTART:20251026T010000
TZOFFSETFROM:+0200
TZOFFSETTO:+0100
TZNAME:CET
END:STANDARD
BEGIN:STANDARD
DTSTART:20261025T010000
TZOFFSETFROM:+0200
TZOFFSETTO:+0100
TZNAME:CET
END:STANDARD
BEGIN:DAYLIGHT
DTSTART:20260329T010000
TZOFFSETFROM:+0100
TZOFFSETTO:+0200
TZNAME:CEST
END:DAYLIGHT
END:VTIMEZONE
X-WR-TIMEZONE:Europe/Berlin
BEGIN:VEVENT
DTSTART;TZID=Europe/Berlin:20241203T203000
DTEND;TZID=Europe/Berlin:20241203T213000
RRULE:FREQ=WEEKLY;INTERVAL=1;UNTIL=20251231T235900Z
EXDATE:20241224T193000Z,20241231T193000Z,20250211T193000Z,20250218T193000Z,20250225T193000Z,20250304T193000Z,20250311T193000Z,20250318T193000Z,20250325T193000Z,20250401T183000Z,20250408T183000Z,20250415T183000Z,20250422T183000Z,20250429T183000Z,20250506T183000Z,20250513T183000Z,20250520T183000Z,20250527T183000Z,20250603T183000Z,20250610T183000Z,20250617T183000Z,20250624T183000Z,20250701T183000Z,20250708T183000Z,20250715T183000Z,20250722T183000Z,20250729T183000Z,20250805T183000Z,20250812T183000Z,20250819T183000Z,20250826T183000Z,20250902T183000Z,20250909T183000Z,20250916T183000Z,20250923T183000Z,20250930T183000Z,20251007T183000Z,20251014T183000Z,20251021T183000Z,20251028T193000Z,20251104T193000Z,20251111T193000Z,20251118T193000Z,20251125T193000Z,20251202T193000Z,20251209T193000Z,20251216T193000Z,20251223T193000Z,20251230T193000Z
UID:CE6B0781-92C5-4AB4-A07C-8F1997BAC768
SUMMARY:Männerchor: Chorprobe
CREATED:20241203T150137Z
DTSTAMP:20241203T150137Z
URL:https://www.gv-neckarhausen.de/component/dpcalendar/event/64.html?calid=28
LAST-MODIFIED:20241203T150137Z
SEQUENCE:0
X-ACCESS:1
X-HITS:10
X-COLOR:33cc38
X-SHOW-END-TIME:0
END:VEVENT
BEGIN:VEVENT
DTSTART;TZID=Europe/Berlin:20241209T203000
DTEND;TZID=Europe/Berlin:20241209T213000
RRULE:FREQ=WEEKLY;INTERVAL=1;UNTIL=20251231T235900Z
EXDATE:20241223T193000Z,20241230T193000Z,20250210T193000Z,20250217T193000Z,20250224T193000Z,20250303T193000Z,20250310T193000Z,20250317T193000Z,20250324T193000Z,20250331T183000Z,20250407T183000Z,20250414T183000Z,20250421T183000Z,20250428T183000Z,20250505T183000Z,20250512T183000Z,20250519T183000Z,20250526T183000Z,20250602T183000Z,20250609T183000Z,20250616T183000Z,20250623T183000Z,20250630T183000Z,20250707T183000Z,20250714T183000Z,20250721T183000Z,20250728T183000Z,20250804T183000Z,20250811T183000Z,20250818T183000Z,20250825T183000Z,20250901T183000Z,20250908T183000Z,20250915T183000Z,20250922T183000Z,20250929T183000Z,20251006T183000Z,20251013T183000Z,20251020T183000Z,20251027T193000Z,20251103T193000Z,20251110T193000Z,20251117T193000Z,20251124T193000Z,20251201T193000Z,20251208T193000Z,20251215T193000Z,20251222T193000Z,20251229T193000Z
UID:951593D0-9B5A-412E-8D2B-FEB02DFC595D
SUMMARY:Rocks2gether Chorprobe
CREATED:20241203T144622Z
DTSTAMP:20241203T144622Z
URL:https://www.gv-neckarhausen.de/component/dpcalendar/event/9.html?calid=28
LAST-MODIFIED:20241203T144622Z
SEQUENCE:0
X-ACCESS:1
X-HITS:8
X-COLOR:33cc38
X-SHOW-END-TIME:0
END:VEVENT
BEGIN:VEVENT
DTSTART;TZID=Europe/Berlin:20250205T180500
DTEND;TZID=Europe/Berlin:20250205T190000
RRULE:FREQ=WEEKLY;INTERVAL=1;UNTIL=20251231T235900Z
EXDATE:20250212T170500Z,20250219T170500Z,20250226T170500Z,20250305T170500Z,20250312T170500Z,20250319T170500Z,20250326T170500Z,20250402T160500Z,20250409T160500Z,20250416T160500Z,20250423T160500Z,20250430T160500Z,20250507T160500Z,20250514T160500Z,20250521T160500Z,20250528T160500Z,20250604T160500Z,20250611T160500Z,20250618T160500Z,20250625T160500Z,20250702T160500Z,20250709T160500Z,20250716T160500Z,20250723T160500Z,20250730T160500Z,20250806T160500Z,20250813T160500Z,20250820T160500Z,20250827T160500Z,20250903T160500Z,20250910T160500Z,20250917T160500Z,20250924T160500Z,20251001T160500Z,20251008T160500Z,20251015T160500Z,20251022T160500Z,20251029T170500Z,20251105T170500Z,20251112T170500Z,20251119T170500Z,20251126T170500Z,20251203T170500Z,20251210T170500Z,20251217T170500Z,20251224T170500Z,20251231T170500Z
UID:731F4EDC-8F66-411C-B74E-72187192C858
SUMMARY:Kinderchor "NextGeneration": Chorprobe
CREATED:20250203T111220Z
DTSTAMP:20250203T111220Z
URL:https://www.gv-neckarhausen.de/component/dpcalendar/event/222.html?calid=28
LAST-MODIFIED:20250203T111220Z
SEQUENCE:0
LOCATION:Neckarstraße 57\, 68535 Neckarhausen\, Baden-Württemberg\, Deutschland
GEO:49.47365155;8.58939248
X-LOCATION-DISPLAYNAME:Vereinsheim
X-ACCESS:1
X-HITS:10
X-COLOR:33cc38
X-SHOW-END-TIME:0
END:VEVENT
BEGIN:VEVENT
DTSTART;TZID=Europe/Berlin:20250205T180500
DTEND;TZID=Europe/Berlin:20250205T190000
UID:731F4EDC-8F66-411C-B74E-72187192C858
RECURRENCE-ID:20250205T170500Z
SUMMARY:FÄLLT AUS! - Kinderchor "NextGeneration": Chorprobe
CREATED:20250203T111220Z
DTSTAMP:20250203T111220Z
URL:https://www.gv-neckarhausen.de/component/dpcalendar/event/223.html?calid=28
LAST-MODIFIED:20250205T094354Z
SEQUENCE:167494
LOCATION:Neckarstraße 57\, 68535 Neckarhausen\, Baden-Württemberg\, Deutschland
GEO:49.47365155;8.58939248
X-LOCATION-DISPLAYNAME:Vereinsheim
X-ACCESS:1
X-HITS:15
X-COLOR:33cc38
X-SHOW-END-TIME:0
END:VEVENT
BEGIN:VEVENT
DTSTART;TZID=Europe/Berlin:20250205T190500
DTEND;TZID=Europe/Berlin:20250205T200000
RRULE:FREQ=WEEKLY;INTERVAL=1;UNTIL=20251231T235900Z
EXDATE:20250212T180500Z,20250219T180500Z,20250226T180500Z,20250305T180500Z,20250312T180500Z,20250319T180500Z,20250326T180500Z,20250402T170500Z,20250409T170500Z,20250416T170500Z,20250423T170500Z,20250430T170500Z,20250507T170500Z,20250514T170500Z,20250521T170500Z,20250528T170500Z,20250604T170500Z,20250611T170500Z,20250618T170500Z,20250625T170500Z,20250702T170500Z,20250709T170500Z,20250716T170500Z,20250723T170500Z,20250730T170500Z,20250806T170500Z,20250813T170500Z,20250820T170500Z,20250827T170500Z,20250903T170500Z,20250910T170500Z,20250917T170500Z,20250924T170500Z,20251001T170500Z,20251008T170500Z,20251015T170500Z,20251022T170500Z,20251029T180500Z,20251105T180500Z,20251112T180500Z,20251119T180500Z,20251126T180500Z,20251203T180500Z,20251210T180500Z,20251217T180500Z,20251224T180500Z,20251231T180500Z
UID:2B5AEAEC-890D-4821-8A01-4BC17E257EE4
SUMMARY:Jugendchor "Dream Singers": Chorprobe
CREATED:20250203T111253Z
DTSTAMP:20250203T111253Z
URL:https://www.gv-neckarhausen.de/component/dpcalendar/event/271.html?calid=28
LAST-MODIFIED:20250203T111253Z
SEQUENCE:0
LOCATION:Neckarstraße 57\, 68535 Neckarhausen\, Baden-Württemberg\, Deutschland
GEO:49.47365155;8.58939248
X-LOCATION-DISPLAYNAME:Vereinsheim
X-ACCESS:1
X-HITS:6
X-COLOR:33cc38
X-SHOW-END-TIME:0
END:VEVENT
BEGIN:VEVENT
DTSTART;TZID=Europe/Berlin:20250205T190500
DTEND;TZID=Europe/Berlin:20250205T200000
UID:2B5AEAEC-890D-4821-8A01-4BC17E257EE4
RECURRENCE-ID:20250205T180500Z
SUMMARY:FÄLLT AUS! -  Jugendchor "Dream Singers": Chorprobe
CREATED:20250203T111253Z
DTSTAMP:20250203T111253Z
URL:https://www.gv-neckarhausen.de/component/dpcalendar/event/272.html?calid=28
LAST-MODIFIED:20250205T094414Z
SEQUENCE:167481
LOCATION:Neckarstraße 57\, 68535 Neckarhausen\, Baden-Württemberg\, Deutschland
GEO:49.47365155;8.58939248
X-LOCATION-DISPLAYNAME:Vereinsheim
X-ACCESS:1
X-HITS:13
X-COLOR:33cc38
X-SHOW-END-TIME:0
END:VEVENT
END:VCALENDAR