BEGIN:VCALENDAR
VERSION:2.0
PRODID:DPCALENDAR
CALSCALE:GREGORIAN
BEGIN:VTIMEZONE
TZID:Europe/Berlin
X-MICROSOFT-CDO-TZID:4
BEGIN:STANDARD
DTSTART:20251026T010000
TZOFFSETFROM:+0200
TZOFFSETTO:+0100
TZNAME:CET
END:STANDARD
BEGIN:STANDARD
DTSTART:20261025T010000
TZOFFSETFROM:+0200
TZOFFSETTO:+0100
TZNAME:CET
END:STANDARD
BEGIN:DAYLIGHT
DTSTART:20260329T010000
TZOFFSETFROM:+0100
TZOFFSETTO:+0200
TZNAME:CEST
END:DAYLIGHT
END:VTIMEZONE
X-WR-TIMEZONE:Europe/Berlin
BEGIN:VEVENT
DTSTART;TZID=Europe/Berlin:20250301T193100
DTEND;TZID=Europe/Berlin:20250301T235900
UID:5DA50DFD-C24E-4B0A-9DDE-F48994B4C68E
SUMMARY:Anmeldung zur Party am Fastnachtssamstag
CREATED:20250209T184932Z
DTSTAMP:20250209T184932Z
URL:https://www.gv-neckarhausen.de/component/dpcalendar/event/6972.html?calid=27
DESCRIPTION:Meldet euch hier für den Fastnachtssamstag an!
X-ALT-DESC;FMTTYPE=text/html:<p>Meldet euch hier für den Fastnachtssamstag an!</p>
LAST-MODIFIED:20250224T192934Z
SEQUENCE:1298402
LOCATION:Neckarstraße 57\, 68535 Neckarhausen\, Baden-Württemberg\, Deutschland
GEO:49.47365155;8.58939248
X-LOCATION-DISPLAYNAME:Neckarstraße 57, 68535 Edingen-Neckarhausen, Deutschland
X-ACCESS:1
X-HITS:277
X-COLOR:4f72b5
X-IMAGE-FULL:https://www.gv-neckarhausen.de/images/veranstaltungen/20250301_Faschingsparty/IMG_9714.jpg
X-SHOW-END-TIME:0
END:VEVENT
END:VCALENDAR