BEGIN:VCALENDAR
VERSION:2.0
PRODID:DPCALENDAR
CALSCALE:GREGORIAN
BEGIN:VTIMEZONE
TZID:Europe/Berlin
X-MICROSOFT-CDO-TZID:4
BEGIN:STANDARD
DTSTART:20251026T010000
TZOFFSETFROM:+0200
TZOFFSETTO:+0100
TZNAME:CET
END:STANDARD
BEGIN:STANDARD
DTSTART:20261025T010000
TZOFFSETFROM:+0200
TZOFFSETTO:+0100
TZNAME:CET
END:STANDARD
BEGIN:DAYLIGHT
DTSTART:20260329T010000
TZOFFSETFROM:+0100
TZOFFSETTO:+0200
TZNAME:CEST
END:DAYLIGHT
END:VTIMEZONE
X-WR-TIMEZONE:Europe/Berlin
BEGIN:VEVENT
DTSTART;TZID=Europe/Berlin:20250220T200000
DTEND;TZID=Europe/Berlin:20250220T210000
UID:E7BE850B-E774-4306-8317-6FF6CC744098
SUMMARY:Test
CREATED:20250220T191448Z
DTSTAMP:20250220T191448Z
URL:https://www.gv-neckarhausen.de/component/dpcalendar/event/6973.html?calid=26
LAST-MODIFIED:20250220T191448Z
SEQUENCE:0
X-ACCESS:1
X-HITS:6
X-COLOR:3366CC
X-SHOW-END-TIME:1
END:VEVENT
END:VCALENDAR